BEGIN:VCALENDAR
VERSION:2.0
PRODID:SchoolNow
CALSCALE:GREGORIAN
BEGIN:VEVENT
UID:c794d7fa-900d-11f0-ba97-0affd69af163
DTSTAMP:20250912T192210Z
SUMMARY:CDD Board Meeting - Sept. 2026
LOCATION:Vasari Country Club\, 11250 Via Del Vasari Drive\, Bonita Springs\
 , Florida 34135
URL;VALUE=URI:https://www.vasaricdd.com/calendar/8615156/cdd-board-meeting-
 sept-2026
DTSTART:20260908T130000Z
DTEND:20260908T140000Z
END:VEVENT
END:VCALENDAR
