BEGIN:VCALENDAR
VERSION:2.0
PRODID:SchoolNow
CALSCALE:GREGORIAN
BEGIN:VEVENT
UID:ab88e8d0-900d-11f0-8f73-02f028a35363
DTSTAMP:20250912T192123Z
SUMMARY:CDD Board Meeting - Jun. 2026
LOCATION:Vasari Country Club\, 11250 Via Del Vasari Drive\, Bonita Springs\
 , Florida 34135
URL;VALUE=URI:https://www.vasaricdd.com/calendar/8615153/cdd-board-meeting-
 jun-2026
DTSTART:20260609T130000Z
DTEND:20260609T140000Z
END:VEVENT
END:VCALENDAR
