BEGIN:VCALENDAR
VERSION:2.0
PRODID:SchoolNow
CALSCALE:GREGORIAN
BEGIN:VEVENT
UID:a2268a90-900d-11f0-80e0-0a58a9feac02
DTSTAMP:20250912T192107Z
SUMMARY:CDD Board Meeting - May 2026
LOCATION:Vasari Country Club\, 11250 Via Del Vasari Drive\, Bonita Springs\
 , Florida 34135
URL;VALUE=URI:https://www.vasaricdd.com/calendar/8615152/cdd-board-meeting-
 may-2026
DTSTART:20260512T130000Z
DTEND:20260512T140000Z
END:VEVENT
END:VCALENDAR
