BEGIN:VCALENDAR
VERSION:2.0
PRODID:SchoolNow
CALSCALE:GREGORIAN
BEGIN:VEVENT
UID:98c3497a-900d-11f0-9912-02d2225c000b
DTSTAMP:20260409T194420Z
SUMMARY:CDD Board Meeting - Apr. 2026
LOCATION:Vasari Country Club\, 11250 Via Del Vasari Drive\, Bonita Springs\
 , Florida 34135
URL;VALUE=URI:https://www.vasaricdd.com/calendar/8615151/cdd-board-meeting-
 apr-2026
DTSTART:20260414T130000Z
DTEND:20260414T140000Z
ATTACH;FILENAME=2026-04-14 Agenda.pdf;FMTTYPE=application/pdf:https://campu
 ssuite-storage.s3.amazonaws.com/prod/1558956/cdc1fb86-f058-11e9-b476-12606
 da399aa/3087405/b5f58fee-32c4-11f1-94c5-0a58a9feac02/file/2026-04-14 Agend
 a.pdf
END:VEVENT
END:VCALENDAR
