BEGIN:VCALENDAR
VERSION:2.0
PRODID:SchoolNow
CALSCALE:GREGORIAN
BEGIN:VEVENT
UID:84d8352e-900d-11f0-a225-0a58a9feac02
DTSTAMP:20260203T215756Z
SUMMARY:CDD Board Meeting - Feb. 2026
LOCATION:Vasari Country Club\, 11250 Via Del Vasari Drive\, Bonita Springs\
 , Florida 34135
URL;VALUE=URI:https://www.vasaricdd.com/calendar/8615149/cdd-board-meeting-
 feb-2026
DTSTART:20260210T140000Z
DTEND:20260210T150000Z
ATTACH;FILENAME=2026-02-10 Agenda.pdf;FMTTYPE=application/pdf:https://campu
 ssuite-storage.s3.amazonaws.com/prod/1558956/cdc1fb86-f058-11e9-b476-12606
 da399aa/3067193/62604d2e-014b-11f1-baa1-0a58a9feac02/file/2026-02-10 Agend
 a.pdf
END:VEVENT
END:VCALENDAR
