BEGIN:VCALENDAR
VERSION:2.0
PRODID:SchoolNow
CALSCALE:GREGORIAN
BEGIN:VEVENT
UID:70465b4a-900d-11f0-8706-0a58a9feac02
DTSTAMP:20251205T215253Z
SUMMARY:CDD Board Meeting - Dec. 2025
LOCATION:Vasari Country Club\, 11250 Via Del Vasari Drive\, Bonita Springs\
 , Florida 34135
URL;VALUE=URI:https://www.vasaricdd.com/calendar/8615147/cdd-board-meeting-
 dec-2025
DTSTART:20251209T140000Z
DTEND:20251209T150000Z
ATTACH;FILENAME=2025-12-09 Final Agenda Package Vasari.pdf;FMTTYPE=applicat
 ion/pdf:https://campussuite-storage.s3.amazonaws.com/prod/1558956/cdc1fb86
 -f058-11e9-b476-12606da399aa/3048361/bca470c2-d224-11f0-ad4b-0a58a9feac02/
 file/2025-12-09 Final Agenda Package Vasari.pdf
END:VEVENT
END:VCALENDAR
