BEGIN:VCALENDAR
VERSION:2.0
PRODID:SchoolNow
CALSCALE:GREGORIAN
BEGIN:VEVENT
UID:66654564-900d-11f0-979f-0a58a9feac02
DTSTAMP:20251111T175915Z
SUMMARY:CDD Board Meeting - Nov. 2025
LOCATION:Vasari Country Club\, 11250 Via Del Vasari Drive\, Bonita Springs\
 , Florida 34135
URL;VALUE=URI:https://www.vasaricdd.com/calendar/8615146/cdd-board-meeting-
 nov-2025
DTSTART:20251111T140000Z
DTEND:20251111T150000Z
ATTACH;FILENAME=2025-11-11 Final Agenda Package Vasari Meeting.pdf;FMTTYPE=
 application/pdf:https://campussuite-storage.s3.amazonaws.com/prod/1558956/
 cdc1fb86-f058-11e9-b476-12606da399aa/3036136/1e570e2a-bf28-11f0-bf8f-0afff
 3d351ff/file/2025-11-11 Final Agenda Package Vasari Meeting.pdf
END:VEVENT
END:VCALENDAR
