BEGIN:VCALENDAR
VERSION:2.0
PRODID:SchoolNow
CALSCALE:GREGORIAN
BEGIN:VEVENT
UID:5cee6498-900d-11f0-bf8b-0affefb753e9
DTSTAMP:20251009T094550Z
SUMMARY:CDD Board Meeting - Oct. 2025
LOCATION:Vasari Country Club\, 11250 Via Del Vasari Drive\, Bonita Springs\
 , Florida 34135
URL;VALUE=URI:https://www.vasaricdd.com/calendar/8615145/cdd-board-meeting-
 oct-2025
DTSTART:20251014T130000Z
DTEND:20251014T140000Z
ATTACH;FILENAME=2025-10-14 Vasari Agenda-updated2.pdf;FMTTYPE=application/p
 df:https://campussuite-storage.s3.amazonaws.com/prod/1558956/cdc1fb86-f058
 -11e9-b476-12606da399aa/3019331/ba9612de-a4f4-11f0-943f-0a58a9feac02/file/
 2025-10-14 Vasari Agenda-updated2.pdf
END:VEVENT
END:VCALENDAR
