BEGIN:VCALENDAR
VERSION:2.0
PRODID:SchoolNow
CALSCALE:GREGORIAN
BEGIN:VEVENT
UID:7ea47fa4-6701-11ef-863b-0a58a9feac02
DTSTAMP:20250904T162302Z
SUMMARY:CDD Board Meeting - Sept. 2025
LOCATION:Vasari Country Club\, 11250 Via Del Vasari Drive\, Bonita Springs\
 , Florida 34135
URL;VALUE=URI:https://www.vasaricdd.com/calendar/6489536/cdd-board-meeting-
 sept-2025
DTSTART:20250909T130000Z
DTEND:20250909T140000Z
ATTACH;FILENAME=2025-09-09 Vasari Agenda (002)-updated.pdf;FMTTYPE=applicat
 ion/pdf:https://campussuite-storage.s3.amazonaws.com/prod/1558956/cdc1fb86
 -f058-11e9-b476-12606da399aa/3003358/69955b42-89ab-11f0-ae70-0efd9bb45fa9/
 file/2025-09-09 Vasari Agenda (002)-updated.pdf
END:VEVENT
END:VCALENDAR
