BEGIN:VCALENDAR
VERSION:2.0
PRODID:SchoolNow
CALSCALE:GREGORIAN
BEGIN:VEVENT
UID:75964bb8-6701-11ef-a645-0290f6182f23
DTSTAMP:20250806T094553Z
SUMMARY:CDD Board Meeting - Aug. 2025
LOCATION:Vasari Country Club\, 11250 Via Del Vasari Drive\, Bonita Springs\
 , Florida 34135
URL;VALUE=URI:https://www.vasaricdd.com/calendar/6489535/cdd-board-meeting-
 aug-2025
DTSTART:20250812T130000Z
DTEND:20250812T140000Z
ATTACH;FILENAME=2025-08-12 Vasari Agenda-updated.pdf;FMTTYPE=application/pd
 f:https://campussuite-storage.s3.amazonaws.com/prod/1558956/cdc1fb86-f058-
 11e9-b476-12606da399aa/2989119/21eabe12-72aa-11f0-bff9-0a58a9feac02/file/2
 025-08-12 Vasari Agenda-updated.pdf
END:VEVENT
END:VCALENDAR
