BEGIN:VCALENDAR
VERSION:2.0
PRODID:SchoolNow
CALSCALE:GREGORIAN
BEGIN:VEVENT
UID:00475c2e-39ab-11ed-b41d-0e3f1b6ac435
DTSTAMP:20221102T192831Z
SUMMARY:CDD Board Meeting - Nov. 2022
LOCATION:Vasari Country Club\, 11250 Via Del Vasari Drive\, Bonita Springs\
 , Florida 34135
URL;VALUE=URI:https://www.vasaricdd.com/calendar/3422455/cdd-board-meeting-
 nov-2022
DTSTART:20221108T140000Z
DTEND:20221108T150000Z
ATTACH;FILENAME=2022-11-08 Vasari CDD - Agenda -REVISED.pdf;FMTTYPE=applica
 tion/pdf:https://campussuite-storage.s3.amazonaws.com/prod/1558956/cdc1fb8
 6-f058-11e9-b476-12606da399aa/2503369/82162960-5ae4-11ed-bad0-02e58a5c8707
 /file/2022-11-08 Vasari CDD - Agenda -REVISED.pdf
END:VEVENT
END:VCALENDAR
